BEGIN:VCALENDAR
VERSION:2.0
METHOD:PUBLISH
PRODID:-//imacoda.com//SPD-Web-O-Mat//EN
CALSCALE:GREGORIAN
BEGIN:VTIMEZONE
TZID:Europe/Berlin
BEGIN:DAYLIGHT
TZOFFSETFROM:+0100
RRULE:FREQ=YEARLY;BYMONTH=3;BYDAY=-1SU
DTSTART:19810329T020000
TZNAME:MESZ
TZOFFSETTO:+0200
END:DAYLIGHT
BEGIN:STANDARD
TZOFFSETFROM:+0200
RRULE:FREQ=YEARLY;BYMONTH=10;BYDAY=-1SU
DTSTART:19961027T030000
TZNAME:MEZ
TZOFFSETTO:+0100
END:STANDARD
END:VTIMEZONE
BEGIN:VEVENT
UID:20241115T120720Z-00000986770-LULU@www.bayernspd.de
CREATED:20241115T120720Z
LAST-MODIFIED:20241115T121300Z
DTSTAMP:20241115T121300Z
TRANSP:TRANSPARENT
DTSTART;TZID=Europe/Berlin:20241128T110000
DTEND;TZID=Europe/Berlin:20241128T130000
SUMMARY:60plus Landesvorstandssitzung
LOCATION:Nürnberg
DESCRIPTION:Termin im Web (60plus Bayern):\nhttps://60plus-bayern.de/ter
 mine/?id=986770
END:VEVENT
END:VCALENDAR
